BEGIN:VCALENDAR
VERSION:2.0
PRODID:-//Powered by CAN - ECPv6.15.20//NONSGML v1.0//EN
CALSCALE:GREGORIAN
METHOD:PUBLISH
X-ORIGINAL-URL:https://www.poweredbycan.org
X-WR-CALDESC:Events for Powered by CAN
REFRESH-INTERVAL;VALUE=DURATION:PT1H
X-Robots-Tag:noindex
X-PUBLISHED-TTL:PT1H
BEGIN:VTIMEZONE
TZID:Europe/London
BEGIN:DAYLIGHT
TZOFFSETFROM:+0000
TZOFFSETTO:+0100
TZNAME:BST
DTSTART:20250330T010000
END:DAYLIGHT
BEGIN:STANDARD
TZOFFSETFROM:+0100
TZOFFSETTO:+0000
TZNAME:GMT
DTSTART:20251026T010000
END:STANDARD
BEGIN:DAYLIGHT
TZOFFSETFROM:+0000
TZOFFSETTO:+0100
TZNAME:BST
DTSTART:20260329T010000
END:DAYLIGHT
BEGIN:STANDARD
TZOFFSETFROM:+0100
TZOFFSETTO:+0000
TZNAME:GMT
DTSTART:20261025T010000
END:STANDARD
BEGIN:DAYLIGHT
TZOFFSETFROM:+0000
TZOFFSETTO:+0100
TZNAME:BST
DTSTART:20270328T010000
END:DAYLIGHT
BEGIN:STANDARD
TZOFFSETFROM:+0100
TZOFFSETTO:+0000
TZNAME:GMT
DTSTART:20271031T010000
END:STANDARD
END:VTIMEZONE
BEGIN:VEVENT
DTSTART;TZID=Europe/London:20260203T160000
DTEND;TZID=Europe/London:20260331T180000
DTSTAMP:20260423T102050
CREATED:20260210T130221Z
LAST-MODIFIED:20260210T144021Z
UID:1365-1770134400-1774980000@www.poweredbycan.org
SUMMARY:Around The Table
DESCRIPTION:A Space for teens to create and chill. \nArts\, music and Mentoring Support through social topic exploration\,
URL:https://www.poweredbycan.org/event/around-the-table/
LOCATION:Private: The Table Walsall 33 Lower Hall Lane Walsall WS1 1RR\, 33 Lower Hall Lane\, Walsall\, WS1 1RR\, United Kingdom
CATEGORIES:Next Gen
ATTACH;FMTTYPE=image/png:https://www.poweredbycan.org/wp-content/uploads/2026/02/NextGen-Around-The-Table-Web.png
ORGANIZER;CN="Powered by Can":MAILTO:ameenab@poweredbycan.org
END:VEVENT
BEGIN:VEVENT
DTSTART;TZID=Europe/London:20260225T160000
DTEND;TZID=Europe/London:20260408T180000
DTSTAMP:20260423T102050
CREATED:20260128T134621Z
LAST-MODIFIED:20260128T134621Z
UID:1354-1772035200-1775671200@www.poweredbycan.org
SUMMARY:Graffiti Course
DESCRIPTION:This is for Young people Ages 11-18 who love: Art • Creativity • Expression • Their Community \nA FREE street art project for young people to learn street art techniques\, paint\, and display public art. \nYour work will stay in the community for years to come. \n6 Sessions • 2 Hours Each – Led by professional graffiti artist Cal. \nCreator of murals across the UK and Stourbridge\, with work for iconic bands like The Wonder Stuff\, Ned’s Atomic Dustbin\,\nand Pop Will Eat Itself. \n\n  \n 
URL:https://www.poweredbycan.org/event/graffiti-course/
LOCATION:Future Rebel Art Gallery 3\, Canal Street Stourbridge\, Dudley\, DY8 4LR\, United Kingdom
CATEGORIES:Art and Culture
ATTACH;FMTTYPE=image/png:https://www.poweredbycan.org/wp-content/uploads/2026/01/Young-Creatives-Graffiti-Course-Online.png
ORGANIZER;CN="Powered by Can":MAILTO:ameenab@poweredbycan.org
END:VEVENT
BEGIN:VEVENT
DTSTART;TZID=Europe/London:20260328T110000
DTEND;TZID=Europe/London:20260328T190000
DTSTAMP:20260423T102050
CREATED:20260324T164155Z
LAST-MODIFIED:20260330T120246Z
UID:1374-1774695600-1774724400@www.poweredbycan.org
SUMMARY:Bound 4 Stage - Play in A Day
DESCRIPTION:Your future on stage starts HERE! 🎭 \nIf you’ve got a passion for performance\, production\, or writing this one’s for you. Join us for Bound 4 Stage\, a FREE full-day creative workshop where young people aged 14–18 will construct an entire play from start to finish in just ONE day. 🎬🖊️ \nGuided by professional actors Robert George Lane & Arun Kapur\, this is your gateway into the creative industry youth led and industry supported. \n📅 Saturday 28th March 2026\n📍 The Table\, Walsall WS1 1RR\n⏰ 11AM – 7PM\n🎟️ FREE to attend | Ages 14–18 \nCLICK HERE TO SIGN UP \n  \n 
URL:https://www.poweredbycan.org/event/bound-4-stage-play-in-a-day/
LOCATION:Private: The Table Walsall 33 Lower Hall Lane Walsall WS1 1RR\, 33 Lower Hall Lane\, Walsall\, WS1 1RR\, United Kingdom
CATEGORIES:Art and Culture
ATTACH;FMTTYPE=image/png:https://www.poweredbycan.org/wp-content/uploads/2026/03/Bound4Stage-Online.png
ORGANIZER;CN="Powered by Can":MAILTO:ameenab@poweredbycan.org
END:VEVENT
END:VCALENDAR